BEGIN:VCALENDAR
VERSION:2.0
PRODID:-//AE Conil - ECPv6.3.5//NONSGML v1.0//EN
CALSCALE:GREGORIAN
METHOD:PUBLISH
X-WR-CALNAME:AE Conil
X-ORIGINAL-URL:https://aeconil.com
X-WR-CALDESC:Eventos para AE Conil
REFRESH-INTERVAL;VALUE=DURATION:PT1H
X-Robots-Tag:noindex
X-PUBLISHED-TTL:PT1H
BEGIN:VTIMEZONE
TZID:Europe/Madrid
BEGIN:DAYLIGHT
TZOFFSETFROM:+0100
TZOFFSETTO:+0200
TZNAME:CEST
DTSTART:20240331T010000
END:DAYLIGHT
BEGIN:STANDARD
TZOFFSETFROM:+0200
TZOFFSETTO:+0100
TZNAME:CET
DTSTART:20241027T010000
END:STANDARD
END:VTIMEZONE
BEGIN:VEVENT
DTSTART;VALUE=DATE:20240324
DTEND;VALUE=DATE:20240401
DTSTAMP:20260422T133054
CREATED:20240209T103430Z
LAST-MODIFIED:20240209T110717Z
UID:1983-1711238400-1711929599@aeconil.com
SUMMARY:Semana Santa
DESCRIPTION:Una de nuestras tradiciones más arraigadas y emotivas. Desde el Domingo de Ramos hasta el Domingo de Resurrección\, nuestro pueblo se convierte en escenario de una celebración que combina fe\, arte y cultura en un ambiente único. \nUn Viaje a través de la Tradición\nLa Semana Santa de Conil es una experiencia espiritual y sensorial única. Nuestras calles se llenan de procesiones que muestran impresionantes pasos y tronos\, acompañados por nazarenos\, penitentes y música sacra que toca el alma. Es un momento de reflexión y comunidad\, donde el arte y la devoción se entrelazan en cada rincón de Conil. \nDescubre la Gastronomía de Cuaresma\nDurante esta semana\, te invitamos a descubrir los sabores de la Cuaresma en nuestros restaurantes y bares\, donde encontrarás platos tradicionales que se han transmitido de generación en generación. Nuestra gastronomía es un reflejo más de la riqueza cultural de esta celebración. \nParticipación y Respeto\nInvitamos a todos a participar en este tiempo de recogimiento y celebración. Te animamos a vivir las procesiones con respeto y devoción\, y a aprovechar esta oportunidad para conocer más sobre nuestra historia y tradiciones. La Semana Santa en Conil es un momento de unión\, reflexión y renovación. \nÚnete a la Celebración\nTe esperamos para compartir la profundidad y la belleza de la Semana Santa. Te animamos a que vivas con nosotros esta experiencia única\, en la que cada momento es una invitación a la reflexión y al encuentro con nuestras raíces más profundas. \nVive la Semana Santa en Conil\, del 24 al 31 de marzo de 2024. Te prometemos una experiencia que no solo te llenará de espiritualidad\, sino que también te acercará a la riqueza cultural y gastronómica de nuestra tierra. ¡Esperamos contar con tu presencia en esta celebración de fe y tradición! \n 
URL:https://aeconil.com/eventos/semana-santa/
LOCATION:Conil ciudad\, Conil\, Cádiz\, 11140\, España
END:VEVENT
END:VCALENDAR